BEGIN:VCALENDAR
VERSION:2.0
PRODID:-//Library Market//iCal Export//EN
BEGIN:VEVENT
SUMMARY:Before the Decision: Talking About Aging
UID:1995
DTSTAMP:20260422T024900Z
DTSTART:20260429T170000Z
DTEND:20260429T180000Z
LOCATION:371 Main St, Saco, ME 04072, United States
ROOM: Before the Decision: Talking About Aging
DESCRIPTION:Before the Decision: Talking About Aging” is a small, guided
  community conversation focused on how people experience aging-related dec
 isions before they become urgent.It’s designed to give people space to t
 alk, ask questions, and hear from others—especially around moments that 
 often come up unexpectedly, like changes at home, hospital stays, or shift
 ing levels of independence.The goal is to help people feel more oriented a
 nd less alone in something most families eventually face, but rarely talk 
 about ahead of time.
URL:https://dyersaco.librarycalendar.com/event/something-decision-talking-
 about-aging-1995
END:VEVENT
END:VCALENDAR
